BEGIN:VCALENDAR
VERSION:2.0
PRODID:-//Ger - ECPv4.6.14.1//NONSGML v1.0//EN
CALSCALE:GREGORIAN
METHOD:PUBLISH
X-WR-CALNAME:Ger
X-ORIGINAL-URL:https://www.commune-ger50.fr
X-WR-CALDESC:évènements pour Ger
BEGIN:VEVENT
DTSTART;TZID=Europe/Paris:20261111T100000
DTEND;TZID=Europe/Paris:20261111T120000
DTSTAMP:20260422T142422
CREATED:20260421T145009Z
LAST-MODIFIED:20260421T145115Z
UID:6453-1794391200-1794398400@www.commune-ger50.fr
SUMMARY:Cérémonie de Commémoration de l’armistice du 11 novembre 1918
DESCRIPTION:Nous vous donnerons le détail ultérieurement. \n  \n
URL:https://www.commune-ger50.fr/evenement/ceremonie-de-commemoration-de-larmistice-du-11-novembre-1918/
END:VEVENT
END:VCALENDAR